BEGIN:VCALENDAR
VERSION:2.0
PRODID:-//Plone.org//NONSGML plone.app.event//EN
X-WR-TIMEZONE:America/Sao_Paulo
BEGIN:VEVENT
SUMMARY:Eventos Unati
DTSTART;VALUE=DATE:20240523
DTEND;VALUE=DATE:20240524
DTSTAMP;VALUE=DATE-TIME:20260419T132601Z
UID:84565dfc3a114d8fb684bb765980c8bd@unati.uem.br
CREATED;VALUE=DATE-TIME:20240403T133418Z
LAST-MODIFIED;VALUE=DATE-TIME:20250626T122422Z
LOCATION:Bloco A38 - auditório Unati
URL:https://unati.uem.br/imagens/um-olhar-alem-da-sua-lixeira
END:VEVENT
END:VCALENDAR
